BEGIN:VCALENDAR
VERSION:2.0
PRODID:-//Zweirad-Gemeinschaft - ECPv6.15.20//NONSGML v1.0//EN
CALSCALE:GREGORIAN
METHOD:PUBLISH
X-ORIGINAL-URL:https://zweirad-kassel.de
X-WR-CALDESC:Veranstaltungen für Zweirad-Gemeinschaft
REFRESH-INTERVAL;VALUE=DURATION:PT1H
X-Robots-Tag:noindex
X-PUBLISHED-TTL:PT1H
BEGIN:VTIMEZONE
TZID:UTC
BEGIN:STANDARD
TZOFFSETFROM:+0000
TZOFFSETTO:+0000
TZNAME:UTC
DTSTART:20250101T000000
END:STANDARD
END:VTIMEZONE
BEGIN:VEVENT
DTSTART;VALUE=DATE:20260214
DTEND;VALUE=DATE:20260216
DTSTAMP:20260425T110456
CREATED:20251116T181444Z
LAST-MODIFIED:20251116T181444Z
UID:7968-1771027200-1771199999@zweirad-kassel.de
SUMMARY:HRV Bahnlehrgang 2026
DESCRIPTION:Der jährliche Start auf der Bahn für alle Blau-Gelben. Für Neueinsteiger und für Fortgeschrittene. Uns erwartet wieder ein tolles Wochenende. Details folgen.
URL:https://zweirad-kassel.de/event/hrv-bahnlehrgang-2026/
LOCATION:Sportforum Kaarst-Büttgen\, Olympiastraße 5\, Kaarst\, Nordrhein-Westfalen\, 41564\, Deutschland
CATEGORIES:Verein
END:VEVENT
END:VCALENDAR