BEGIN:VCALENDAR
VERSION:2.0
PRODID:-//Zweirad-Gemeinschaft - ECPv6.15.20//NONSGML v1.0//EN
CALSCALE:GREGORIAN
METHOD:PUBLISH
X-WR-CALNAME:Zweirad-Gemeinschaft
X-ORIGINAL-URL:https://zweirad-kassel.de
X-WR-CALDESC:Veranstaltungen für Zweirad-Gemeinschaft
REFRESH-INTERVAL;VALUE=DURATION:PT1H
X-Robots-Tag:noindex
X-PUBLISHED-TTL:PT1H
BEGIN:VTIMEZONE
TZID:UTC
BEGIN:STANDARD
TZOFFSETFROM:+0000
TZOFFSETTO:+0000
TZNAME:UTC
DTSTART:20250101T000000
END:STANDARD
END:VTIMEZONE
BEGIN:VEVENT
DTSTART;TZID=UTC:20260415T190000
DTEND;TZID=UTC:20260415T200000
DTSTAMP:20260425T142042
CREATED:20260120T130354Z
LAST-MODIFIED:20260120T130354Z
UID:8045-1776279600-1776283200@zweirad-kassel.de
SUMMARY:Rohloff-Cup 2026 – Wertung 2 – Rennen 1
DESCRIPTION:Der Renntermin für die Elite der Frauen sowie die weibliche U19. Dazu alle U-Klassen von U11 bis U17.  Und noch die Mastersklassen 2\,3 und 4.
URL:https://zweirad-kassel.de/event/rohloff-cup-2026-wertung-2-rennen-1-2/
LOCATION:Verkehrsübungsplatz\, Großenritter Straße 1\, Baunatal\, Hessen\, 34225\, Deutschland
CATEGORIES:Rohloff-Cup
END:VEVENT
END:VCALENDAR