BEGIN:VCALENDAR
VERSION:2.0
PRODID:-//Zweirad-Gemeinschaft - ECPv6.15.20//NONSGML v1.0//EN
CALSCALE:GREGORIAN
METHOD:PUBLISH
X-WR-CALNAME:Zweirad-Gemeinschaft
X-ORIGINAL-URL:https://zweirad-kassel.de
X-WR-CALDESC:Veranstaltungen für Zweirad-Gemeinschaft
REFRESH-INTERVAL;VALUE=DURATION:PT1H
X-Robots-Tag:noindex
X-PUBLISHED-TTL:PT1H
BEGIN:VTIMEZONE
TZID:UTC
BEGIN:STANDARD
TZOFFSETFROM:+0000
TZOFFSETTO:+0000
TZNAME:UTC
DTSTART:20250101T000000
END:STANDARD
END:VTIMEZONE
BEGIN:VEVENT
DTSTART;TZID=UTC:20260422T190000
DTEND;TZID=UTC:20260422T200000
DTSTAMP:20260422T132818
CREATED:20260120T123905Z
LAST-MODIFIED:20260120T123905Z
UID:8013-1776884400-1776888000@zweirad-kassel.de
SUMMARY:Rohloff-Cup 2026 – Wertung 1 – Rennen 2
DESCRIPTION:Das Rennen für die Elite/Amateure der Männer sowie die männliche U19.
URL:https://zweirad-kassel.de/event/rohloff-cup-2026-wertung-1-rennen-2/
LOCATION:Verkehrsübungsplatz\, Großenritter Straße 1\, Baunatal\, Hessen\, 34225\, Deutschland
CATEGORIES:Rohloff-Cup
END:VEVENT
END:VCALENDAR