BEGIN:VCALENDAR
VERSION:2.0
PRODID:-//Zweirad-Gemeinschaft - ECPv6.15.20//NONSGML v1.0//EN
CALSCALE:GREGORIAN
METHOD:PUBLISH
X-ORIGINAL-URL:https://zweirad-kassel.de
X-WR-CALDESC:Veranstaltungen für Zweirad-Gemeinschaft
REFRESH-INTERVAL;VALUE=DURATION:PT1H
X-Robots-Tag:noindex
X-PUBLISHED-TTL:PT1H
BEGIN:VTIMEZONE
TZID:Europe/Berlin
BEGIN:DAYLIGHT
TZOFFSETFROM:+0100
TZOFFSETTO:+0200
TZNAME:CEST
DTSTART:20250330T010000
END:DAYLIGHT
BEGIN:STANDARD
TZOFFSETFROM:+0200
TZOFFSETTO:+0100
TZNAME:CET
DTSTART:20251026T010000
END:STANDARD
BEGIN:DAYLIGHT
TZOFFSETFROM:+0100
TZOFFSETTO:+0200
TZNAME:CEST
DTSTART:20260329T010000
END:DAYLIGHT
BEGIN:STANDARD
TZOFFSETFROM:+0200
TZOFFSETTO:+0100
TZNAME:CET
DTSTART:20261025T010000
END:STANDARD
BEGIN:DAYLIGHT
TZOFFSETFROM:+0100
TZOFFSETTO:+0200
TZNAME:CEST
DTSTART:20270328T010000
END:DAYLIGHT
BEGIN:STANDARD
TZOFFSETFROM:+0200
TZOFFSETTO:+0100
TZNAME:CET
DTSTART:20271031T010000
END:STANDARD
END:VTIMEZONE
BEGIN:VEVENT
DTSTART;TZID=Europe/Berlin:20260819T190000
DTEND;TZID=Europe/Berlin:20260819T200000
DTSTAMP:20260425T222754
CREATED:20260120T124827Z
LAST-MODIFIED:20260327T112533Z
UID:8026-1787166000-1787169600@zweirad-kassel.de
SUMMARY:Rohloff-Cup 2026 – Wertung 1 – Rennen 8
DESCRIPTION:Das Rennen für die Elite/Amateure der Männer sowie die männliche U19.
URL:https://zweirad-kassel.de/event/rohloff-cup-2026-wertung-1-rennen-8/
LOCATION:Verkehrsübungsplatz\, Großenritter Straße 1\, Baunatal\, Hessen\, 34225\, Deutschland
CATEGORIES:Rohloff-Cup
END:VEVENT
END:VCALENDAR