BEGIN:VCALENDAR
VERSION:2.0
PRODID:-//Zweirad-Gemeinschaft - ECPv6.15.20//NONSGML v1.0//EN
CALSCALE:GREGORIAN
METHOD:PUBLISH
X-ORIGINAL-URL:https://zweirad-kassel.de
X-WR-CALDESC:Veranstaltungen für Zweirad-Gemeinschaft
REFRESH-INTERVAL;VALUE=DURATION:PT1H
X-Robots-Tag:noindex
X-PUBLISHED-TTL:PT1H
BEGIN:VTIMEZONE
TZID:UTC
BEGIN:STANDARD
TZOFFSETFROM:+0000
TZOFFSETTO:+0000
TZNAME:UTC
DTSTART:20250101T000000
END:STANDARD
END:VTIMEZONE
BEGIN:VEVENT
DTSTART;TZID=UTC:20260506T190000
DTEND;TZID=UTC:20260506T200000
DTSTAMP:20260425T142236
CREATED:20260120T124018Z
LAST-MODIFIED:20260120T124018Z
UID:8015-1778094000-1778097600@zweirad-kassel.de
SUMMARY:Rohloff-Cup 2026 – Wertung 1 – Rennen 3
DESCRIPTION:Das Rennen für die Elite/Amateure der Männer sowie die männliche U19.
URL:https://zweirad-kassel.de/event/rohloff-cup-2026-wertung-1-rennen-3/
LOCATION:Verkehrsübungsplatz\, Großenritter Straße 1\, Baunatal\, Hessen\, 34225\, Deutschland
CATEGORIES:Rohloff-Cup
END:VEVENT
BEGIN:VEVENT
DTSTART;TZID=UTC:20260513T190000
DTEND;TZID=UTC:20260513T200000
DTSTAMP:20260425T142236
CREATED:20260120T125204Z
LAST-MODIFIED:20260120T125204Z
UID:8032-1778698800-1778702400@zweirad-kassel.de
SUMMARY:Rohloff-Cup 2026 – Wertung 2 – Rennen 3
DESCRIPTION:Der Renntermin für die Elite der Frauen sowie die weibliche U19. Dazu alle U-Klassen von U11 bis U17.  Und noch die Mastersklassen 2\,3 und 4.
URL:https://zweirad-kassel.de/event/rohloff-cup-2026-wertung-2-rennen-3/
LOCATION:Verkehrsübungsplatz\, Großenritter Straße 1\, Baunatal\, Hessen\, 34225\, Deutschland
CATEGORIES:Rohloff-Cup
END:VEVENT
BEGIN:VEVENT
DTSTART;TZID=UTC:20260520T190000
DTEND;TZID=UTC:20260520T200000
DTSTAMP:20260425T142236
CREATED:20260120T124214Z
LAST-MODIFIED:20260120T124214Z
UID:8018-1779303600-1779307200@zweirad-kassel.de
SUMMARY:Rohloff-Cup 2026 – Wertung 1 – Rennen 4
DESCRIPTION:Das Rennen für die Elite/Amateure der Männer sowie die männliche U19.
URL:https://zweirad-kassel.de/event/rohloff-cup-2026-wertung-1-rennen-4/
LOCATION:Verkehrsübungsplatz\, Großenritter Straße 1\, Baunatal\, Hessen\, 34225\, Deutschland
CATEGORIES:Rohloff-Cup
END:VEVENT
BEGIN:VEVENT
DTSTART;TZID=UTC:20260527T190000
DTEND;TZID=UTC:20260527T200000
DTSTAMP:20260425T142236
CREATED:20260120T125259Z
LAST-MODIFIED:20260120T125259Z
UID:8034-1779908400-1779912000@zweirad-kassel.de
SUMMARY:Rohloff-Cup 2026 – Wertung 2 – Rennen 4
DESCRIPTION:Der Renntermin für die Elite der Frauen sowie die weibliche U19. Dazu alle U-Klassen von U11 bis U17.  Und noch die Mastersklassen 2\,3 und 4.
URL:https://zweirad-kassel.de/event/rohloff-cup-2026-wertung-2-rennen-4/
LOCATION:Verkehrsübungsplatz\, Großenritter Straße 1\, Baunatal\, Hessen\, 34225\, Deutschland
CATEGORIES:Rohloff-Cup
END:VEVENT
END:VCALENDAR