BEGIN:VCALENDAR
VERSION:2.0
PRODID:-//Zweirad-Gemeinschaft - ECPv6.15.20//NONSGML v1.0//EN
CALSCALE:GREGORIAN
METHOD:PUBLISH
X-WR-CALNAME:Zweirad-Gemeinschaft
X-ORIGINAL-URL:https://zweirad-kassel.de
X-WR-CALDESC:Veranstaltungen für Zweirad-Gemeinschaft
REFRESH-INTERVAL;VALUE=DURATION:PT1H
X-Robots-Tag:noindex
X-PUBLISHED-TTL:PT1H
BEGIN:VTIMEZONE
TZID:UTC
BEGIN:STANDARD
TZOFFSETFROM:+0000
TZOFFSETTO:+0000
TZNAME:UTC
DTSTART:20250101T000000
END:STANDARD
END:VTIMEZONE
BEGIN:VEVENT
DTSTART;TZID=UTC:20260603T190000
DTEND;TZID=UTC:20260603T200000
DTSTAMP:20260425T160718
CREATED:20260120T124337Z
LAST-MODIFIED:20260120T124337Z
UID:8020-1780513200-1780516800@zweirad-kassel.de
SUMMARY:Rohloff-Cup 2026 – Wertung 1 – Rennen 5
DESCRIPTION:Das Rennen für die Elite/Amateure der Männer sowie die männliche U19.
URL:https://zweirad-kassel.de/event/rohloff-cup-2026-wertung-1-rennen-5/
LOCATION:Verkehrsübungsplatz\, Großenritter Straße 1\, Baunatal\, Hessen\, 34225\, Deutschland
CATEGORIES:Rohloff-Cup
END:VEVENT
BEGIN:VEVENT
DTSTART;TZID=UTC:20260610T190000
DTEND;TZID=UTC:20260610T200000
DTSTAMP:20260425T160718
CREATED:20260120T125357Z
LAST-MODIFIED:20260120T125357Z
UID:8036-1781118000-1781121600@zweirad-kassel.de
SUMMARY:Rohloff-Cup 2026 – Wertung 2 – Rennen 5
DESCRIPTION:Der Renntermin für die Elite der Frauen sowie die weibliche U19. Dazu alle U-Klassen von U11 bis U17.  Und noch die Mastersklassen 2\,3 und 4.
URL:https://zweirad-kassel.de/event/rohloff-cup-2026-wertung-2-rennen-5/
LOCATION:Verkehrsübungsplatz\, Großenritter Straße 1\, Baunatal\, Hessen\, 34225\, Deutschland
CATEGORIES:Rohloff-Cup
END:VEVENT
BEGIN:VEVENT
DTSTART;TZID=UTC:20260617T190000
DTEND;TZID=UTC:20260617T200000
DTSTAMP:20260425T160718
CREATED:20260120T124451Z
LAST-MODIFIED:20260120T124451Z
UID:8022-1781722800-1781726400@zweirad-kassel.de
SUMMARY:Rohloff-Cup 2026 – Wertung 1 – Rennen 6
DESCRIPTION:Das Rennen für die Elite/Amateure der Männer sowie die männliche U19.
URL:https://zweirad-kassel.de/event/rohloff-cup-2026-wertung-1-rennen-6/
LOCATION:Verkehrsübungsplatz\, Großenritter Straße 1\, Baunatal\, Hessen\, 34225\, Deutschland
CATEGORIES:Rohloff-Cup
END:VEVENT
BEGIN:VEVENT
DTSTART;TZID=UTC:20260624T190000
DTEND;TZID=UTC:20260624T200000
DTSTAMP:20260425T160718
CREATED:20260120T125454Z
LAST-MODIFIED:20260120T125454Z
UID:8038-1782327600-1782331200@zweirad-kassel.de
SUMMARY:Rohloff-Cup 2026 – Wertung 2 – Rennen 6
DESCRIPTION:Der Renntermin für die Elite der Frauen sowie die weibliche U19. Dazu alle U-Klassen von U11 bis U17.  Und noch die Mastersklassen 2\,3 und 4.
URL:https://zweirad-kassel.de/event/rohloff-cup-2026-wertung-2-rennen-6/
LOCATION:Verkehrsübungsplatz\, Großenritter Straße 1\, Baunatal\, Hessen\, 34225\, Deutschland
CATEGORIES:Rohloff-Cup
END:VEVENT
END:VCALENDAR